BEGIN:VCALENDAR
VERSION:2.0
PRODID:-//BVES - ECPv6.15.18//NONSGML v1.0//EN
CALSCALE:GREGORIAN
METHOD:PUBLISH
X-ORIGINAL-URL:https://www.bves.de
X-WR-CALDESC:Veranstaltungen für BVES
REFRESH-INTERVAL;VALUE=DURATION:PT1H
X-Robots-Tag:noindex
X-PUBLISHED-TTL:PT1H
BEGIN:VTIMEZONE
TZID:Europe/Berlin
BEGIN:DAYLIGHT
TZOFFSETFROM:+0100
TZOFFSETTO:+0200
TZNAME:CEST
DTSTART:20250330T010000
END:DAYLIGHT
BEGIN:STANDARD
TZOFFSETFROM:+0200
TZOFFSETTO:+0100
TZNAME:CET
DTSTART:20251026T010000
END:STANDARD
BEGIN:DAYLIGHT
TZOFFSETFROM:+0100
TZOFFSETTO:+0200
TZNAME:CEST
DTSTART:20260329T010000
END:DAYLIGHT
BEGIN:STANDARD
TZOFFSETFROM:+0200
TZOFFSETTO:+0100
TZNAME:CET
DTSTART:20261025T010000
END:STANDARD
BEGIN:DAYLIGHT
TZOFFSETFROM:+0100
TZOFFSETTO:+0200
TZNAME:CEST
DTSTART:20270328T010000
END:DAYLIGHT
BEGIN:STANDARD
TZOFFSETFROM:+0200
TZOFFSETTO:+0100
TZNAME:CET
DTSTART:20271031T010000
END:STANDARD
END:VTIMEZONE
BEGIN:VEVENT
DTSTART;TZID=Europe/Berlin:20260428T100000
DTEND;TZID=Europe/Berlin:20260428T110000
DTSTAMP:20260422T164717
CREATED:20260127T085533Z
LAST-MODIFIED:20260127T085533Z
UID:7812-1777370400-1777374000@www.bves.de
SUMMARY:BVES Policy Recap
DESCRIPTION:Aktuelle Veranstaltung \nOnline-Veranstaltung - Nur für BVES-Mitglieder \n28.04.2026\nBVES\nPolicy Recap\nBVES Veranstaltung \nFür weitere Informationen über diese Sitzung kontaktieren Sie bitte die Geschäftsstelle. \nZeitraum \n28.04.2026 / 10:00–11:00 UHR \nInterne Veranstaltung \nDiese Veranstaltung ist nur für BVES-Mitglieder. Wenn Sie bereits Mitglied sind\, wenden Sie sich bitte an die Geschäftsstelle\, um Informationen zur Teilnahme zu erhalten. Wenn Sie kein Mitglied sind\, informieren Sie sich hier über die BVES-Mitgliedschaft oder entdecken Sie unsere öffentlichen Veranstaltungen. \nUm auf dem Laufenden zu bleiben\, besuchen Sie unsere Verbandsnachrichten und folgen Sie uns auf Social Media.
URL:https://www.bves.de/event/bves-policy-recap-24/
LOCATION:Online – Nur für Mit­glie­der
CATEGORIES:AG
END:VEVENT
BEGIN:VEVENT
DTSTART;TZID=Europe/Berlin:20260429T100000
DTEND;TZID=Europe/Berlin:20260429T120000
DTSTAMP:20260422T164718
CREATED:20260422T075025Z
LAST-MODIFIED:20260422T075025Z
UID:8405-1777456800-1777464000@www.bves.de
SUMMARY:BVES AG Großspeicher
DESCRIPTION:Aktuelle Veranstaltung \nOnline-Veranstaltung - Nur für BVES-Mitglieder \n29.04.2026\nBVES\nAG Großspeicher\nBVES Veranstaltung \nFür weitere Informationen über diese Sitzung kontaktieren Sie bitte die Geschäftsstelle. \nZeitraum \n29.04.2026 / 10:00–12:00 UHR \nInterne Veranstaltung \nDiese Veranstaltung ist nur für BVES-Mitglieder. Wenn Sie bereits Mitglied sind\, wenden Sie sich bitte an die Geschäftsstelle\, um Informationen zur Teilnahme zu erhalten. Wenn Sie kein Mitglied sind\, informieren Sie sich hier über die BVES-Mitgliedschaft oder entdecken Sie unsere öffentlichen Veranstaltungen. \nUm auf dem Laufenden zu bleiben\, besuchen Sie unsere Verbandsnachrichten und folgen Sie uns auf Social Media.
URL:https://www.bves.de/event/bves-ag-grossspeicher-6/
LOCATION:Online – Nur für Mit­glie­der
CATEGORIES:AG
END:VEVENT
BEGIN:VEVENT
DTSTART;TZID=Europe/Berlin:20260504T143000
DTEND;TZID=Europe/Berlin:20260504T160000
DTSTAMP:20260422T164718
CREATED:20260326T120010Z
LAST-MODIFIED:20260326T120010Z
UID:8347-1777905000-1777910400@www.bves.de
SUMMARY:BVES Veranstaltung: Energiespeicher – Multitool für Resilienz\, Versorgungssicherheit und auch die Energiewende
DESCRIPTION:Aktuelle Veranstaltung \nBVES Veranstaltung \n04.05.2026\nBVES Veranstaltung: Energiespeicher – Multitool für Resilienz\, Versorgungssicherheit und auch die Energiewende\nBVES Veranstaltung @ Berliner Energietage 2026 \nDie Energiewende verändert das Energiesystem grundlegend. Mit dem steigenden Anteil erneuerbarer Energien wächst der Bedarf an Flexibilität\, Resilienz und Versorgungssicherheit. Energiespeicher sind dabei weit mehr als nur ein technisches Add-on – sie sind ein zentrales Werkzeug für Systemstabilität\, Kosteneffizienz und volkswirtschaftlichen Nutzen. \nOb Batteriespeicher (BESS)\, Pumpspeicher\, thermische Speicher oder innovative Co-Location-Konzepte mit Photovoltaik\, Wind- und Biogasanlagen: Speicher ermöglichen Netzstabilität\, reduzieren Systemkosten\, gleichen die volatile Erzeugung aus und erhöhen die Krisenfestigkeit unserer Energieversorgung. \nDie Fachveranstaltung beleuchtet die systemische Rolle von Energiespeichern\, zeigt konkrete Praxisbeispiele und diskutiert\, welche regulatorischen und marktlichen Rahmenbedingungen notwendig sind\, um ihre Potenziale vollständig zu heben. \nFür weitere Informationen besuchen Sie die Webseite der Energietage 2026 \nZeitraum \n04.05.2026 / 14:30–16:00 UHR \nBVES Veranstaltung
URL:https://www.bves.de/event/bves-veranstaltung-energiespeicher-multitool-fuer-resilienz-versorgungssicherheit-und-auch-die-energiewende/
LOCATION:Prä­senz­ver­an­stal­tung
CATEGORIES:Konferenz
END:VEVENT
BEGIN:VEVENT
DTSTART;TZID=Europe/Berlin:20260507T113000
DTEND;TZID=Europe/Berlin:20260507T133000
DTSTAMP:20260422T164718
CREATED:20260107T132536Z
LAST-MODIFIED:20260422T075844Z
UID:7641-1778153400-1778160600@www.bves.de
SUMMARY:BVES Präsidium
DESCRIPTION:Aktuelle Veranstaltung \nEvent in Berlin \n07.05.2026\nBVES\nSitzung Präsidium \nBVES Präsenzveranstaltung (Berlin) \nFür weitere Informationen über diese Sitzung kontaktieren Sie bitte die Geschäftsstelle. \nZeitraum \n07.05.2026 / 11:30–13:30 UHR \nInterne Veranstaltung \nDiese Veranstaltung ist nur für BVES-Mitglieder. Wenn Sie bereits Mitglied sind\, wenden Sie sich bitte an die Geschäftsstelle\, um Informationen zur Teilnahme zu erhalten. Wenn Sie kein Mitglied sind\, informieren Sie sich hier über die BVES-Mitgliedschaft oder entdecken Sie unsere öffentlichen Veranstaltungen. \nUm auf dem Laufenden zu bleiben\, besuchen Sie unsere Verbandsnachrichten und folgen Sie uns auf Social Media.
URL:https://www.bves.de/event/bves-praesidium-und-erweiterter-vorstand/
LOCATION:Event in Ber­lin\, Düsseldorf
CATEGORIES:AG
END:VEVENT
BEGIN:VEVENT
DTSTART;TZID=Europe/Berlin:20260507T140000
DTEND;TZID=Europe/Berlin:20260507T160000
DTSTAMP:20260422T164718
CREATED:20260107T132829Z
LAST-MODIFIED:20260422T075724Z
UID:7647-1778162400-1778169600@www.bves.de
SUMMARY:BVES Vorstand
DESCRIPTION:Aktuelle Veranstaltung \nHybridveranstaltung (Präsenz und Online) \n07.05.2026\nBVES\nSitzung Vorstand\nBVES Hybridveranstaltung (Präsenz und Online) \nFür weitere Informationen über diese Sitzung kontaktieren Sie bitte die Geschäftsstelle. \nZeitraum \n07.05.2026 / 14:00–16:00 UHR \nInterne Veranstaltung \nDiese Veranstaltung ist nur für BVES-Mitglieder. Wenn Sie bereits Mitglied sind\, wenden Sie sich bitte an die Geschäftsstelle\, um Informationen zur Teilnahme zu erhalten. Wenn Sie kein Mitglied sind\, informieren Sie sich hier über die BVES-Mitgliedschaft oder entdecken Sie unsere öffentlichen Veranstaltungen. \nUm auf dem Laufenden zu bleiben\, besuchen Sie unsere Verbandsnachrichten und folgen Sie uns auf Social Media.
URL:https://www.bves.de/event/bves-erweiterter-vorstand/
LOCATION:Online- und Prä­senz­ver­an­stal­tung (Ber­lin)
CATEGORIES:AG
END:VEVENT
BEGIN:VEVENT
DTSTART;TZID=Europe/Berlin:20260526T100000
DTEND;TZID=Europe/Berlin:20260526T110000
DTSTAMP:20260422T164718
CREATED:20260127T085724Z
LAST-MODIFIED:20260127T085724Z
UID:7815-1779789600-1779793200@www.bves.de
SUMMARY:BVES Policy Recap
DESCRIPTION:Aktuelle Veranstaltung \nOnline-Veranstaltung - Nur für BVES-Mitglieder \n26.05.2026\nBVES\nPolicy Recap\nBVES Veranstaltung \nFür weitere Informationen über diese Sitzung kontaktieren Sie bitte die Geschäftsstelle. \nZeitraum \n26.05.2026 / 10:00–11:00 UHR \nInterne Veranstaltung \nDiese Veranstaltung ist nur für BVES-Mitglieder. Wenn Sie bereits Mitglied sind\, wenden Sie sich bitte an die Geschäftsstelle\, um Informationen zur Teilnahme zu erhalten. Wenn Sie kein Mitglied sind\, informieren Sie sich hier über die BVES-Mitgliedschaft oder entdecken Sie unsere öffentlichen Veranstaltungen. \nUm auf dem Laufenden zu bleiben\, besuchen Sie unsere Verbandsnachrichten und folgen Sie uns auf Social Media.
URL:https://www.bves.de/event/bves-policy-recap-25/
LOCATION:Online – Nur für Mit­glie­der
CATEGORIES:AG
END:VEVENT
BEGIN:VEVENT
DTSTART;TZID=Europe/Berlin:20260603T100000
DTEND;TZID=Europe/Berlin:20260603T120000
DTSTAMP:20260422T164718
CREATED:20260331T120419Z
LAST-MODIFIED:20260331T124830Z
UID:8356-1780480800-1780488000@www.bves.de
SUMMARY:BVES AG Energierecht
DESCRIPTION:Aktuelle Veranstaltung \nOnline-Veranstaltung - Nur für BVES-Mitglieder \n03.06.2026\nBVES\nAG Energierecht\nBVES Veranstaltung \nFür weitere Informationen über diese Sitzung kontaktieren Sie bitte die Geschäftsstelle. \nZeitraum \n03.06.2026 / 10:00–12:00 UHR \nInterne Veranstaltung \nDiese Veranstaltung ist nur für BVES-Mitglieder. Wenn Sie bereits Mitglied sind\, wenden Sie sich bitte an die Geschäftsstelle\, um Informationen zur Teilnahme zu erhalten. Wenn Sie kein Mitglied sind\, informieren Sie sich hier über die BVES-Mitgliedschaft oder entdecken Sie unsere öffentlichen Veranstaltungen. \nUm auf dem Laufenden zu bleiben\, besuchen Sie unsere Verbandsnachrichten und folgen Sie uns auf Social Media.
URL:https://www.bves.de/event/bves-ag-energierecht-12/
LOCATION:Online – Nur für Mit­glie­der
CATEGORIES:AG
END:VEVENT
BEGIN:VEVENT
DTSTART;TZID=Europe/Berlin:20260618T100000
DTEND;TZID=Europe/Berlin:20260618T120000
DTSTAMP:20260422T164718
CREATED:20260420T145510Z
LAST-MODIFIED:20260420T145510Z
UID:8399-1781776800-1781784000@www.bves.de
SUMMARY:BVES AG Industrie- und Gewerbespeicher
DESCRIPTION:Aktuelle Veranstaltung \nOnline-Veranstaltung - Nur für BVES-Mitglieder \n18.06.2026\nBVES\nAG Industrie- und Gewerbespeicher \nBVES Veranstaltung \nFür weitere Informationen über diese Sitzung kontaktieren Sie bitte die Geschäftsstelle. \nZeitraum \n18.06.2026 / 10:00–12:00 UHR \nInterne Veranstaltung \nDiese Veranstaltung ist nur für BVES-Mitglieder. Wenn Sie bereits Mitglied sind\, wenden Sie sich bitte an die Geschäftsstelle\, um Informationen zur Teilnahme zu erhalten. Wenn Sie kein Mitglied sind\, informieren Sie sich hier über die BVES-Mitgliedschaft oder entdecken Sie unsere öffentlichen Veranstaltungen. \nUm auf dem Laufenden zu bleiben\, besuchen Sie unsere Verbandsnachrichten und folgen Sie uns auf Social Media.
URL:https://www.bves.de/event/bves-ag-industrie-und-gewerbespeicher/
LOCATION:Online – Nur für Mit­glie­der
CATEGORIES:AG
END:VEVENT
BEGIN:VEVENT
DTSTART;TZID=Europe/Berlin:20260630T100000
DTEND;TZID=Europe/Berlin:20260630T110000
DTSTAMP:20260422T164718
CREATED:20260127T090229Z
LAST-MODIFIED:20260127T090229Z
UID:7818-1782813600-1782817200@www.bves.de
SUMMARY:BVES Policy Recap
DESCRIPTION:Aktuelle Veranstaltung \nOnline-Veranstaltung - Nur für BVES-Mitglieder \n30.06.2026\nBVES\nPolicy Recap\nBVES Veranstaltung \nFür weitere Informationen über diese Sitzung kontaktieren Sie bitte die Geschäftsstelle. \nZeitraum \n30.06.2026 / 10:00–11:00 UHR \nInterne Veranstaltung \nDiese Veranstaltung ist nur für BVES-Mitglieder. Wenn Sie bereits Mitglied sind\, wenden Sie sich bitte an die Geschäftsstelle\, um Informationen zur Teilnahme zu erhalten. Wenn Sie kein Mitglied sind\, informieren Sie sich hier über die BVES-Mitgliedschaft oder entdecken Sie unsere öffentlichen Veranstaltungen. \nUm auf dem Laufenden zu bleiben\, besuchen Sie unsere Verbandsnachrichten und folgen Sie uns auf Social Media.
URL:https://www.bves.de/event/bves-policy-recap-26/
LOCATION:Online – Nur für Mit­glie­der
CATEGORIES:AG
END:VEVENT
BEGIN:VEVENT
DTSTART;TZID=Europe/Berlin:20260702T100000
DTEND;TZID=Europe/Berlin:20260702T123000
DTSTAMP:20260422T164718
CREATED:20260107T145856Z
LAST-MODIFIED:20260107T145856Z
UID:7674-1782986400-1782995400@www.bves.de
SUMMARY:BVES Präsidium
DESCRIPTION:Aktuelle Veranstaltung \nOnline-Veranstaltung \n02.07.2026\nBVES\nSitzung Präsidium \nBVES Veranstaltung \nFür weitere Informationen über diese Sitzung kontaktieren Sie bitte die Geschäftsstelle. \nZeitraum \n02.07.2026 / 10:00–12:30 UHR \nInterne Veranstaltung \nDiese Veranstaltung ist nur für BVES-Mitglieder. Wenn Sie bereits Mitglied sind\, wenden Sie sich bitte an die Geschäftsstelle\, um Informationen zur Teilnahme zu erhalten. Wenn Sie kein Mitglied sind\, informieren Sie sich hier über die BVES-Mitgliedschaft oder entdecken Sie unsere öffentlichen Veranstaltungen. \nUm auf dem Laufenden zu bleiben\, besuchen Sie unsere Verbandsnachrichten und folgen Sie uns auf Social Media.
URL:https://www.bves.de/event/bves-praesidium-3/
LOCATION:Online-Ver­an­stal­tung
CATEGORIES:AG
END:VEVENT
BEGIN:VEVENT
DTSTART;TZID=Europe/Berlin:20260728T100000
DTEND;TZID=Europe/Berlin:20260728T110000
DTSTAMP:20260422T164718
CREATED:20260127T090417Z
LAST-MODIFIED:20260127T090417Z
UID:7821-1785232800-1785236400@www.bves.de
SUMMARY:BVES Policy Recap
DESCRIPTION:Aktuelle Veranstaltung \nOnline-Veranstaltung - Nur für BVES-Mitglieder \n28.07.2026\nBVES\nPolicy Recap\nBVES Veranstaltung \nFür weitere Informationen über diese Sitzung kontaktieren Sie bitte die Geschäftsstelle. \nZeitraum \n28.07.2026 / 10:00–11:00 UHR \nInterne Veranstaltung \nDiese Veranstaltung ist nur für BVES-Mitglieder. Wenn Sie bereits Mitglied sind\, wenden Sie sich bitte an die Geschäftsstelle\, um Informationen zur Teilnahme zu erhalten. Wenn Sie kein Mitglied sind\, informieren Sie sich hier über die BVES-Mitgliedschaft oder entdecken Sie unsere öffentlichen Veranstaltungen. \nUm auf dem Laufenden zu bleiben\, besuchen Sie unsere Verbandsnachrichten und folgen Sie uns auf Social Media.
URL:https://www.bves.de/event/bves-policy-recap-27/
LOCATION:Online – Nur für Mit­glie­der
CATEGORIES:AG
END:VEVENT
BEGIN:VEVENT
DTSTART;TZID=Europe/Berlin:20260825T100000
DTEND;TZID=Europe/Berlin:20260825T110000
DTSTAMP:20260422T164718
CREATED:20260127T090826Z
LAST-MODIFIED:20260127T090826Z
UID:7824-1787652000-1787655600@www.bves.de
SUMMARY:BVES Policy Recap
DESCRIPTION:Aktuelle Veranstaltung \nOnline-Veranstaltung - Nur für BVES-Mitglieder \n25.08.2026\nBVES\nPolicy Recap\nBVES Veranstaltung \nFür weitere Informationen über diese Sitzung kontaktieren Sie bitte die Geschäftsstelle. \nZeitraum \n25.08.2026 / 10:00–11:00 UHR \nInterne Veranstaltung \nDiese Veranstaltung ist nur für BVES-Mitglieder. Wenn Sie bereits Mitglied sind\, wenden Sie sich bitte an die Geschäftsstelle\, um Informationen zur Teilnahme zu erhalten. Wenn Sie kein Mitglied sind\, informieren Sie sich hier über die BVES-Mitgliedschaft oder entdecken Sie unsere öffentlichen Veranstaltungen. \nUm auf dem Laufenden zu bleiben\, besuchen Sie unsere Verbandsnachrichten und folgen Sie uns auf Social Media.
URL:https://www.bves.de/event/bves-policy-recap-28/
LOCATION:Online – Nur für Mit­glie­der
CATEGORIES:AG
END:VEVENT
BEGIN:VEVENT
DTSTART;TZID=Europe/Berlin:20260917T100000
DTEND;TZID=Europe/Berlin:20260917T120000
DTSTAMP:20260422T164718
CREATED:20260331T125614Z
LAST-MODIFIED:20260331T125614Z
UID:8367-1789639200-1789646400@www.bves.de
SUMMARY:BVES AG Energierecht
DESCRIPTION:Aktuelle Veranstaltung \nOnline-Veranstaltung - Nur für BVES-Mitglieder \n17.09.2026\nBVES\nAG Energierecht\nBVES Veranstaltung \nFür weitere Informationen über diese Sitzung kontaktieren Sie bitte die Geschäftsstelle. \nZeitraum \n17.09.2026 / 10:00–12:00 UHR \nInterne Veranstaltung \nDiese Veranstaltung ist nur für BVES-Mitglieder. Wenn Sie bereits Mitglied sind\, wenden Sie sich bitte an die Geschäftsstelle\, um Informationen zur Teilnahme zu erhalten. Wenn Sie kein Mitglied sind\, informieren Sie sich hier über die BVES-Mitgliedschaft oder entdecken Sie unsere öffentlichen Veranstaltungen. \nUm auf dem Laufenden zu bleiben\, besuchen Sie unsere Verbandsnachrichten und folgen Sie uns auf Social Media.
URL:https://www.bves.de/event/bves-ag-energierecht-13/
LOCATION:Online – Nur für Mit­glie­der
CATEGORIES:AG
END:VEVENT
BEGIN:VEVENT
DTSTART;TZID=Europe/Berlin:20260924T103000
DTEND;TZID=Europe/Berlin:20260924T120000
DTSTAMP:20260422T164718
CREATED:20260108T084520Z
LAST-MODIFIED:20260108T084923Z
UID:7699-1790245800-1790251200@www.bves.de
SUMMARY:BVES Präsidium
DESCRIPTION:Aktuelle Veranstaltung \nOnline-Veranstaltung \n24.09.2026\nBVES\nSitzung Präsidium \nBVES Veranstaltung \nFür weitere Informationen über diese Sitzung kontaktieren Sie bitte die Geschäftsstelle. \nZeitraum \n24.09.2026 / 10:30–12:00 UHR \nInterne Veranstaltung \nDiese Veranstaltung ist nur für BVES-Mitglieder. Wenn Sie bereits Mitglied sind\, wenden Sie sich bitte an die Geschäftsstelle\, um Informationen zur Teilnahme zu erhalten. Wenn Sie kein Mitglied sind\, informieren Sie sich hier über die BVES-Mitgliedschaft oder entdecken Sie unsere öffentlichen Veranstaltungen. \nUm auf dem Laufenden zu bleiben\, besuchen Sie unsere Verbandsnachrichten und folgen Sie uns auf Social Media.
URL:https://www.bves.de/event/bves-praesidium-4/
LOCATION:Event in Ham­burg
CATEGORIES:AG
END:VEVENT
BEGIN:VEVENT
DTSTART;TZID=Europe/Berlin:20260929T100000
DTEND;TZID=Europe/Berlin:20260929T110000
DTSTAMP:20260422T164718
CREATED:20260127T091005Z
LAST-MODIFIED:20260127T091005Z
UID:7827-1790676000-1790679600@www.bves.de
SUMMARY:BVES Policy Recap
DESCRIPTION:Aktuelle Veranstaltung \nOnline-Veranstaltung - Nur für BVES-Mitglieder \n29.09.2026\nBVES\nPolicy Recap\nBVES Veranstaltung \nFür weitere Informationen über diese Sitzung kontaktieren Sie bitte die Geschäftsstelle. \nZeitraum \n29.09.2026 / 10:00–11:00 UHR \nInterne Veranstaltung \nDiese Veranstaltung ist nur für BVES-Mitglieder. Wenn Sie bereits Mitglied sind\, wenden Sie sich bitte an die Geschäftsstelle\, um Informationen zur Teilnahme zu erhalten. Wenn Sie kein Mitglied sind\, informieren Sie sich hier über die BVES-Mitgliedschaft oder entdecken Sie unsere öffentlichen Veranstaltungen. \nUm auf dem Laufenden zu bleiben\, besuchen Sie unsere Verbandsnachrichten und folgen Sie uns auf Social Media.
URL:https://www.bves.de/event/bves-policy-recap-29/
LOCATION:Online – Nur für Mit­glie­der
CATEGORIES:AG
END:VEVENT
BEGIN:VEVENT
DTSTART;TZID=Europe/Berlin:20261027T100000
DTEND;TZID=Europe/Berlin:20261027T110000
DTSTAMP:20260422T164718
CREATED:20260127T091405Z
LAST-MODIFIED:20260127T091405Z
UID:7830-1793095200-1793098800@www.bves.de
SUMMARY:BVES Policy Recap
DESCRIPTION:Aktuelle Veranstaltung \nOnline-Veranstaltung - Nur für BVES-Mitglieder \n27.10.2026\nBVES\nPolicy Recap\nBVES Veranstaltung \nFür weitere Informationen über diese Sitzung kontaktieren Sie bitte die Geschäftsstelle. \nZeitraum \n27.10.2026 / 10:00–11:00 UHR \nInterne Veranstaltung \nDiese Veranstaltung ist nur für BVES-Mitglieder. Wenn Sie bereits Mitglied sind\, wenden Sie sich bitte an die Geschäftsstelle\, um Informationen zur Teilnahme zu erhalten. Wenn Sie kein Mitglied sind\, informieren Sie sich hier über die BVES-Mitgliedschaft oder entdecken Sie unsere öffentlichen Veranstaltungen. \nUm auf dem Laufenden zu bleiben\, besuchen Sie unsere Verbandsnachrichten und folgen Sie uns auf Social Media.
URL:https://www.bves.de/event/bves-policy-recap-30/
LOCATION:Online – Nur für Mit­glie­der
CATEGORIES:AG
END:VEVENT
BEGIN:VEVENT
DTSTART;TZID=Europe/Berlin:20261124T100000
DTEND;TZID=Europe/Berlin:20261124T110000
DTSTAMP:20260422T164718
CREATED:20260127T091543Z
LAST-MODIFIED:20260127T092525Z
UID:7833-1795514400-1795518000@www.bves.de
SUMMARY:BVES Policy Recap
DESCRIPTION:Aktuelle Veranstaltung \nOnline-Veranstaltung - Nur für BVES-Mitglieder \n24.11.2026\nBVES\nPolicy Recap\nBVES Veranstaltung \nFür weitere Informationen über diese Sitzung kontaktieren Sie bitte die Geschäftsstelle. \nZeitraum \n24.11.2026 / 10:00–11:00 UHR \nInterne Veranstaltung \nDiese Veranstaltung ist nur für BVES-Mitglieder. Wenn Sie bereits Mitglied sind\, wenden Sie sich bitte an die Geschäftsstelle\, um Informationen zur Teilnahme zu erhalten. Wenn Sie kein Mitglied sind\, informieren Sie sich hier über die BVES-Mitgliedschaft oder entdecken Sie unsere öffentlichen Veranstaltungen. \nUm auf dem Laufenden zu bleiben\, besuchen Sie unsere Verbandsnachrichten und folgen Sie uns auf Social Media.
URL:https://www.bves.de/event/bves-policy-recap-31/
LOCATION:Online – Nur für Mit­glie­der
CATEGORIES:AG
END:VEVENT
BEGIN:VEVENT
DTSTART;TZID=Europe/Berlin:20261125T100000
DTEND;TZID=Europe/Berlin:20261125T120000
DTSTAMP:20260422T164718
CREATED:20260331T130122Z
LAST-MODIFIED:20260331T130122Z
UID:8370-1795600800-1795608000@www.bves.de
SUMMARY:BVES AG Energierecht
DESCRIPTION:Aktuelle Veranstaltung \nOnline-Veranstaltung - Nur für BVES-Mitglieder \n25.11.2026\nBVES\nAG Energierecht\nBVES Veranstaltung \nFür weitere Informationen über diese Sitzung kontaktieren Sie bitte die Geschäftsstelle. \nZeitraum \n25.11.2026 / 10:00–12:00 UHR \nInterne Veranstaltung \nDiese Veranstaltung ist nur für BVES-Mitglieder. Wenn Sie bereits Mitglied sind\, wenden Sie sich bitte an die Geschäftsstelle\, um Informationen zur Teilnahme zu erhalten. Wenn Sie kein Mitglied sind\, informieren Sie sich hier über die BVES-Mitgliedschaft oder entdecken Sie unsere öffentlichen Veranstaltungen. \nUm auf dem Laufenden zu bleiben\, besuchen Sie unsere Verbandsnachrichten und folgen Sie uns auf Social Media.
URL:https://www.bves.de/event/bves-ag-energierecht-14/
LOCATION:Online – Nur für Mit­glie­der
CATEGORIES:AG
END:VEVENT
END:VCALENDAR